BEGIN:VCALENDAR
VERSION:2.0
PRODID:icalendar-ruby
CALSCALE:GREGORIAN
METHOD:PUBLISH
BEGIN:VEVENT
DTSTAMP:20260424T222149Z
UID:7-237752@fullgospelkennett.com
DTSTART:20261101T180000Z
DTEND:20261101T190000Z
CLASS:PUBLIC
CREATED:20260424T141919
DESCRIPTION:Sunday Worship
LAST-MODIFIED:20260424T141919
LOCATION:430 East South Street\, Kennett Square PA 
SUMMARY:Sunday Worship
URL;VALUE=URI:https://www.fullgospelkennett.com/events/sunday-worship/2026-
 11-01
END:VEVENT
END:VCALENDAR
