BEGIN:VCALENDAR
VERSION:2.0
PRODID:icalendar-ruby
CALSCALE:GREGORIAN
METHOD:PUBLISH
BEGIN:VEVENT
DTSTAMP:20260424T191912Z
UID:7-237700@fullgospelkennett.com
DTSTART:20261018T170000Z
DTEND:20261018T180000Z
CLASS:PUBLIC
CREATED:20260424T113120
DESCRIPTION:Sunday Worship
LAST-MODIFIED:20260424T113120
LOCATION:430 East South Street\, Kennett Square PA 
SUMMARY:Sunday Worship
URL;VALUE=URI:https://www.fullgospelkennett.com/events/sunday-worship/2026-
 10-18
END:VEVENT
END:VCALENDAR
