BEGIN:VCALENDAR
VERSION:2.0
PRODID:icalendar-ruby
CALSCALE:GREGORIAN
METHOD:PUBLISH
BEGIN:VEVENT
DTSTAMP:20260424T163259Z
UID:7-237648@fullgospelkennett.com
DTSTART:20261004T170000Z
DTEND:20261004T180000Z
CLASS:PUBLIC
CREATED:20260424T084601
DESCRIPTION:Sunday Worship
LAST-MODIFIED:20260424T084601
LOCATION:430 East South Street\, Kennett Square PA 
SUMMARY:Sunday Worship
URL;VALUE=URI:https://www.fullgospelkennett.com/events/sunday-worship/2026-
 10-04
END:VEVENT
END:VCALENDAR
